BEGIN:VCALENDAR
VERSION:2.0
CREATED:20251120T154022Z
PRODID:-//Becton\, Dickinson and Company/Equisolve Calendar v1.0//EN
METHOD:PUBLISH
BEGIN:VEVENT
UID:488ad0d197ad4c2ebe15ecf357c1ef1f
DTSTAMP:20260421T090308Z
DTSTART:20260507T120000Z
DTEND:20260507T130000Z
SUMMARY:Q2 FY26 BD Earnings Conference Call
DESCRIPTION:Q2 FY26 BD Earnings Conference Call\nDate: May 7\, 2026 8:00 am EDT\nWebcast: https://event.choruscall.com/mediaframe/webcast.html?webcastid=VerQ8qKq
END:VEVENT
END:VCALENDAR
